BEGIN:VCALENDAR
VERSION:2.0
PRODID:-//Tukios.com/
BEGIN:VEVENT
UID:e803f492-f302-40c7-bbe9-674a44c4969e@www.denglersowersfuneralhome.com
DTSTAMP:20260423T104206Z
DTSTART:20260423T170000Z
DTEND:20260423T173000Z
SUMMARY:Burial
DESCRIPTION:
URL:https://www.denglersowersfuneralhome.com/obituaries/anna-smith
LOCATION:Robeson Cemetery 3501 Plow Rd  Mohnton PA 19540
GEO:40.2198175;-75.9044322
END:VEVENT
END:VCALENDAR