BEGIN:VCALENDAR
VERSION:2.0
PRODID:-//Tukios.com/
BEGIN:VEVENT
UID:d0ba2889-c8d7-4f9e-93a2-e4eabd91c5ab@www.denglersowersfuneralhome.com
DTSTAMP:20260423T104332Z
DTSTART:20260423T150000Z
DTEND:20260423T160000Z
SUMMARY:Viewing
DESCRIPTION:
URL:https://www.denglersowersfuneralhome.com/obituaries/anna-smith
LOCATION:Dengler-Sowers Funeral Home & Crematory, LLC 144 N Spruce St  
	Birdsboro PA 19508
GEO:40.2654475;-75.8016349
END:VEVENT
END:VCALENDAR