BEGIN:VCALENDAR
VERSION:2.0
PRODID:-//Tukios.com/
BEGIN:VEVENT
UID:eae31687-82f9-41b0-a87b-5d21067ba3a5@www.denglersowersfuneralhome.com
DTSTAMP:20260423T104104Z
DTSTART:20260423T160000Z
DTEND:20260423T170000Z
SUMMARY:Funeral Service
DESCRIPTION:
URL:https://www.denglersowersfuneralhome.com/obituaries/anna-smith
LOCATION:Dengler-Sowers Funeral Home & Crematory, LLC 144 N Spruce St  
	Birdsboro PA 19508
GEO:40.2654475;-75.8016349
END:VEVENT
END:VCALENDAR