BEGIN:VCALENDAR
VERSION:2.0
PRODID:-//Tukios.com/
BEGIN:VEVENT
UID:1596c4f6-1aff-47ea-94f6-f1e3bf684ca6@www.denglersowersfuneralhome.com
DTSTAMP:20260419T214321Z
DTSTART:20260428T140000Z
DTEND:20260428T150000Z
SUMMARY:Viewing
DESCRIPTION:
URL:https://www.denglersowersfuneralhome.com/obituaries/robert-brown
LOCATION:St. John’s U.C.C. 57 St. John's Rd.  Birdsboro, PA PA 19508
GEO:40.2780185;-75.8586954
END:VEVENT
END:VCALENDAR