BEGIN:VCALENDAR
VERSION:2.0
PRODID:-//Tukios.com/
BEGIN:VEVENT
UID:37cac34d-0a4b-4e9d-aae6-ea28fa862edd@www.denglersowersfuneralhome.com
DTSTAMP:20260419T214636Z
DTSTART:20260428T160000Z
DTEND:20260428T163000Z
SUMMARY:Burial
DESCRIPTION:
URL:https://www.denglersowersfuneralhome.com/obituaries/robert-brown
LOCATION: 57 St. John's Rd.  Birdsboro, PA PA 19508
GEO:40.2780185;-75.8586954
END:VEVENT
END:VCALENDAR